BEGIN:VCALENDAR
VERSION:2.0
PRODID:-//NEO Master Rain Gardener - ECPv6.15.20//NONSGML v1.0//EN
CALSCALE:GREGORIAN
METHOD:PUBLISH
X-ORIGINAL-URL:https://neomasterraingardener.org
X-WR-CALDESC:Events for NEO Master Rain Gardener
REFRESH-INTERVAL;VALUE=DURATION:PT1H
X-Robots-Tag:noindex
X-PUBLISHED-TTL:PT1H
BEGIN:VTIMEZONE
TZID:UTC
BEGIN:STANDARD
TZOFFSETFROM:+0000
TZOFFSETTO:+0000
TZNAME:UTC
DTSTART:20220101T000000
END:STANDARD
END:VTIMEZONE
BEGIN:VEVENT
DTSTART;TZID=UTC:20230505T080000
DTEND;TZID=UTC:20230505T150000
DTSTAMP:20260424T135113
CREATED:20230316T175848Z
LAST-MODIFIED:20230320T164619Z
UID:547-1683273600-1683298800@neomasterraingardener.org
SUMMARY:MRG Field Day at Rice Library
DESCRIPTION:MRG students\, volunteers\, and instructors will be installing a public rain garden from start to finish in one day at Rice Library in Cleveland in partnership with the Doan Brook Watershed Partnership! Participation is limited\, so please reach out to Sarah Brunot at sbrunot@crwp.org if you’re interested in attending. \nRain date: May 12\, 2023
URL:https://neomasterraingardener.org/event/mrg-field-day-at-rice-library/
LOCATION:Cleveland Public Library – Rice Branch\, 11535 Shaker Blvd.\, Cleveland\, OH\, 44104\, United States
ATTACH;FMTTYPE=image/jpeg:https://neomasterraingardener.org/wp-content/uploads/2021/08/MRG-Field-Day_Perry-Middle-School_08-31-2019_LB-18.jpeg
ORGANIZER;CN="Kaylee Acres Eclov":MAILTO:kacres@crwp.org
END:VEVENT
END:VCALENDAR