BEGIN:VCALENDAR
VERSION:2.0
PRODID:-//NEO Master Rain Gardener - ECPv6.15.20//NONSGML v1.0//EN
CALSCALE:GREGORIAN
METHOD:PUBLISH
X-ORIGINAL-URL:https://neomasterraingardener.org
X-WR-CALDESC:Events for NEO Master Rain Gardener
REFRESH-INTERVAL;VALUE=DURATION:PT1H
X-Robots-Tag:noindex
X-PUBLISHED-TTL:PT1H
BEGIN:VTIMEZONE
TZID:UTC
BEGIN:STANDARD
TZOFFSETFROM:+0000
TZOFFSETTO:+0000
TZNAME:UTC
DTSTART:20220101T000000
END:STANDARD
END:VTIMEZONE
BEGIN:VEVENT
DTSTART;VALUE=DATE:20230130
DTEND;VALUE=DATE:20230311
DTSTAMP:20260423T110038
CREATED:20221129T181853Z
LAST-MODIFIED:20221129T181853Z
UID:504-1675036800-1678492799@neomasterraingardener.org
SUMMARY:Winter 2023 Residential Online Course
DESCRIPTION:This Master Rain Gardener Program will teach you how to install rain gardens on a residential scale. Rain gardens naturally manage stormwater by infiltrating precipitation and allowing it to soak into the ground rather than sending it directly to storm sewers and nearby streams untreated. Experienced instructors will provide feedback\, which will enable you to design and install your own rain garden. Topics will include site assessment\, soil analysis\, design\, construction\, plant selection\, mulching\, and maintenance. \nThis five-week course is open to residents of Northeast Ohio and will be taken online. Participants are required to install their own rain garden\, adopt a public rain garden\, or participate in a rain garden installation field day to receive certification. Graduates will receive a Master Rain Gardener t-shirt\, a yard sign\, and a certificate of completion. \nRecorded class webinars can be watched at your convenience with live office hours each week! \nNeed-based scholarships are available! \nWe are committed to creating a more diverse and inclusive program that is accessible to all Ohio residents. Please reach out to Sarah Brunot (sbrunot@crwp.org) to learn more about our scholarship opportunities.
URL:https://neomasterraingardener.org/event/winter-2023-residential-online-course/
ATTACH;FMTTYPE=image/jpeg:https://neomasterraingardener.org/wp-content/uploads/2021/06/2019classinsession.jpg
ORGANIZER;CN="Kaylee Acres Eclov":MAILTO:kacres@crwp.org
END:VEVENT
BEGIN:VEVENT
DTSTART;VALUE=DATE:20230130
DTEND;VALUE=DATE:20230311
DTSTAMP:20260423T110038
CREATED:20221129T182137Z
LAST-MODIFIED:20221129T182137Z
UID:506-1675036800-1678492799@neomasterraingardener.org
SUMMARY:Winter 2023 Professional Online Course
DESCRIPTION:This Professional Rain Gardener Program will certify you to install rain gardens professionally on residential properties. Rain gardens naturally manage stormwater by infiltrating precipitation and allowing it to soak into the ground rather than sending it directly to storm sewers and nearby streams untreated. Experienced instructors will provide feedback\, which will enable you to design and install rain gardens. Topics will include site assessment\, soil analysis\, design\, construction\, plant selection\, mulching\, and maintenance. \nThis five-week course is open to landscape professionals and contractors that provide services to Northeast Ohio and will be taken online. Participants in the professional certification track will be required to pass a final exam and either participate in a field day (public rain garden installation) or install a residential rain garden. Graduates will receive a Master Rain Gardener t-shirt\, yard sign\, and a certificate of completion. Professionals will also have to option to be listed on a public website of Northeast Ohio Professional Master Rain Gardeners that will be maintained by and held on partner websites. \nThe Professional Certification is geared toward landscape professionals and contractors looking to install rain gardens professionally on residential properties. Your Master Rain Gardener Professional Certification can be used to promote your expertise and as a selling point for your business. \nRecorded class webinars can be watched at your convenience with virtual office hours each week!
URL:https://neomasterraingardener.org/event/winter-2023-professional-online-course/
ATTACH;FMTTYPE=image/png:https://neomasterraingardener.org/wp-content/uploads/2021/08/Perry-Middle-School_Diggin-Edit.png
ORGANIZER;CN="Kaylee Acres Eclov":MAILTO:kacres@crwp.org
END:VEVENT
BEGIN:VEVENT
DTSTART;TZID=UTC:20230301T100000
DTEND;TZID=UTC:20230405T130000
DTSTAMP:20260423T110038
CREATED:20221207T170637Z
LAST-MODIFIED:20221207T191540Z
UID:512-1677664800-1680699600@neomasterraingardener.org
SUMMARY:Late-Winter 2023 In-Person Course
DESCRIPTION:Learn to design\, dig and plant your own rain garden! Share your knowledge and become your community’s expert on rain gardens. \nThis Master Rain Gardener Program will teach you how to install rain gardens on a residential scale. Rain gardens naturally manage stormwater by capturing rain from a roof\, driveway\, sidewalk or yard and allowing it to soak into the ground rather than sending it directly to storm sewers and nearby streams untreated. Experienced instructors will provide customized feedback\, which will enable you to design and install your own rain garden. Topics will include site assessment\, soil analysis\, design\, construction\, plant selection\, mulching\, and maintenance. \nCost $75.00 \nScholarships Available: Based on need\, the course can be offered for as low as $10. Contact Kate Chapel at kchapel@cuyahogaswcd.org for more information. \nThis five-class course is open to residents of Northeast Ohio and will be held in person on Wednesdays from 10am – 1pm at the South Euclid Community Center in South Euclid\, OH: \n\nMarch 1 – Introduction to rain gardens\, stormwater\, and watersheds\nMarch 8 – Location\, sizing\, and soil considerations\nMarch 15 – Digging and Drawing\nMarch 22 – Plant selection and design\nMarch 29 – By-week to give you time to finalize your designs and presentations\nApril 5 – Graduation Day! Provide your final design\, option to present to the class\, field trip to a public rain garden\n\nParticipants are required to install their own rain garden\, adopt a public rain garden\, rehab a rain garden\, or participate in a rain garden installation field day to receive certification. Graduates will receive a Master Rain Gardener t-shirt\, a yard sign\, and a certificate of completion.
URL:https://neomasterraingardener.org/event/late-winter-2023-in-person-course/
LOCATION:South Euclid Community Center\, 1370 Victory Dr\, Cleveland\, OH\, 44121\, United States
ATTACH;FMTTYPE=image/jpeg:https://neomasterraingardener.org/wp-content/uploads/2021/06/WSC-Plant-Tour.jpg
ORGANIZER;CN="Kate Chapel":MAILTO:kchapel@cuyahogaswcd.org
END:VEVENT
END:VCALENDAR