BEGIN:VCALENDAR
VERSION:2.0
PRODID:-//NEO Master Rain Gardener - ECPv6.15.20//NONSGML v1.0//EN
CALSCALE:GREGORIAN
METHOD:PUBLISH
X-WR-CALNAME:NEO Master Rain Gardener
X-ORIGINAL-URL:https://neomasterraingardener.org
X-WR-CALDESC:Events for NEO Master Rain Gardener
REFRESH-INTERVAL;VALUE=DURATION:PT1H
X-Robots-Tag:noindex
X-PUBLISHED-TTL:PT1H
BEGIN:VTIMEZONE
TZID:UTC
BEGIN:STANDARD
TZOFFSETFROM:+0000
TZOFFSETTO:+0000
TZNAME:UTC
DTSTART:20220101T000000
END:STANDARD
END:VTIMEZONE
BEGIN:VEVENT
DTSTART;VALUE=DATE:20230807
DTEND;VALUE=DATE:20230916
DTSTAMP:20260425T142054
CREATED:20230626T163957Z
LAST-MODIFIED:20230626T164654Z
UID:573-1691380800-1694750399@neomasterraingardener.org
SUMMARY:Fall 2023 Online Course
DESCRIPTION:Learn to design\, dig and plant your own rain garden!! \nShare your knowledge and become your community’s expert on rain gardens. At the end of this 5-class course\, you will become a Master Rain Gardener! \nThis Master Rain Gardener Program will teach you how to install rain gardens on a residential scale. Rain gardens naturally manage stormwater by capturing rain from a roof\, driveway\, sidewalk or yard and allowing it to soak into the ground rather than sending it directly to storm sewers and nearby streams untreated. Experienced instructors will provide customized feedback\, which will enable you to design and install your own rain garden. Topics will include site assessment\, soil analysis\, design\, construction\, plant selection\, mulching\, and maintenance. \nCost $50.00 \nScholarships Available: Based on need\, the course can be offered for as low as $10. Contact Kate at kchapel@cuyahogaswcd.org for more information. \nThis five-class course is open to residents of Northeast Ohio and will be taken online. Participants are required to install their own rain garden or adopt a public rain garden for at least a year to receive certification. Graduates will receive a Master Rain Gardener t-shirt\, a yard sign\, and a certificate of completion. \nRecorded class webinars can be watched at your convenience with live Q&A sessions every week Fridays at noon! \nRegister for class here.
URL:https://neomasterraingardener.org/event/fall-2023-online-course/
ATTACH;FMTTYPE=image/jpeg:https://neomasterraingardener.org/wp-content/uploads/2023/06/rfreggiaro2022.jpg
ORGANIZER;CN="Kate Chapel":MAILTO:kchapel@cuyahogaswcd.org
END:VEVENT
END:VCALENDAR