BEGIN:VCALENDAR
VERSION:2.0
PRODID:-//NEO Master Rain Gardener - ECPv6.15.20//NONSGML v1.0//EN
CALSCALE:GREGORIAN
METHOD:PUBLISH
X-WR-CALNAME:NEO Master Rain Gardener
X-ORIGINAL-URL:https://neomasterraingardener.org
X-WR-CALDESC:Events for NEO Master Rain Gardener
REFRESH-INTERVAL;VALUE=DURATION:PT1H
X-Robots-Tag:noindex
X-PUBLISHED-TTL:PT1H
BEGIN:VTIMEZONE
TZID:UTC
BEGIN:STANDARD
TZOFFSETFROM:+0000
TZOFFSETTO:+0000
TZNAME:UTC
DTSTART:20220101T000000
END:STANDARD
END:VTIMEZONE
BEGIN:VEVENT
DTSTART;TZID=UTC:20230706T100000
DTEND;TZID=UTC:20230810T130000
DTSTAMP:20260425T142025
CREATED:20230316T180714Z
LAST-MODIFIED:20230316T182842Z
UID:549-1688637600-1691672400@neomasterraingardener.org
SUMMARY:Summer 2023 In-Person Residential Course
DESCRIPTION:This Master Rain Gardener Program will teach you how to manage rain water in your own yard. Rain gardens naturally manage stormwater by infiltrating precipitation and allowing it to soak into the ground rather than sending it directly to storm sewers and nearby streams untreated. Experienced instructors will provide customized feedback which will enable you to design and install a rain garden. Topics will include site assessment\, soil analysis\, design\, construction\, plant selection\, mulching\, and maintenance.  \nThe Residential Certification is geared toward homeowners who would like to install a rain garden in their own yard and serve as the neighborhood expert on rain gardens.  \n2023 In-person Course Dates:  \n• Class 1: Thursday\, July 6\, 2023. 10:00 am-1:00 pm* \n• Class 2: Thursday\, July 13\, 2023. 10:00 am-1:00 pm* \n• Class 3: Thursday\, July 20\, 2023. 10:00 am-1:00 pm* \n• Class 4: Thursday\, July 27\, 2023. 10:00 am-1:00 pm* \n• Class 5: Thursday\, August 10\, 2023. 10:00 am-1:00 pm* \n*Light refreshments will be provided. There will be optional field trips to nearby rain gardens and a native plant nursery after each class! \nUnable to make all the classes? A hybrid option is available!  \nWe offer an online course that follows the same content as the in-person course. If you need to miss any classes\, you watch the online portion to keep up to date. \nNeed-based scholarships are available! \nWe are committed to creating a more diverse and inclusive program that is accessible to all Ohio residents. Please reach out to Sarah Brunot (sbrunot@crwp.org) to learn more about our scholarship opportunities.
URL:https://neomasterraingardener.org/event/summer-2023-in-person-residential-course/
LOCATION:Watershed Stewardship Center\, 2277 West Ridgewood Drive\, Parma\, OH\, 44134\, United States
ATTACH;FMTTYPE=image/jpeg:https://neomasterraingardener.org/wp-content/uploads/2021/06/WSC-Plant-Tour.jpg
ORGANIZER;CN="Kaylee Acres Eclov":MAILTO:kacres@crwp.org
END:VEVENT
BEGIN:VEVENT
DTSTART;TZID=UTC:20230706T100000
DTEND;TZID=UTC:20230810T130000
DTSTAMP:20260425T142025
CREATED:20230316T181834Z
LAST-MODIFIED:20230316T181842Z
UID:555-1688637600-1691672400@neomasterraingardener.org
SUMMARY:Summer 2023 In-Person Professional Course
DESCRIPTION:This Master Rain Gardener Program will teach you how to manage rain water in your clients’ yards. Rain gardens naturally manage stormwater by infiltrating precipitation and allowing it to soak into the ground rather than sending it directly to storm sewers and nearby streams untreated. Experienced instructors will provide customized feedback which will enable you to design and install a rain garden. Topics will include site assessment\, soil analysis\, design\, construction\, plant selection\, mulching\, and maintenance. \nParticipants in the professional certification track will be required to pass a final exam and either participate in a field day (public rain garden installation) or install a residential rain garden. Graduates will receive a Master Rain Gardener t-shirt\, yard sign\, and a certificate of completion. Professionals will also have to option to be listed on a public website of Northeast Ohio Professional Master Rain Gardeners that will be maintained by and held on partner websites. \nThe Professional Certification is geared toward landscape professionals and contractors looking to install rain gardens professionally on residential properties. Your Master Rain Gardener Professional Certification can be used to promote your expertise and as a selling point for your business. \n2023 In-person Course Dates: \n• Class 1: Thursday\, July 6\, 2023. 10:00 am-1:00 pm* \n• Class 2: Thursday\, July 13\, 2023. 10:00 am-1:00 pm* \n• Class 3: Thursday\, July 20\, 2023. 10:00 am-1:00 pm* \n• Class 4: Thursday\, July 27\, 2023. 10:00 am-1:00 pm* \n• Class 5: Thursday\, August 10\, 2023. 10:00 am-1:00 pm* \n*Light refreshments will be provided. There will be optional field trips to nearby rain gardens and a native plant nursery after each class! \nUnable to make all the classes? A hybrid option is available! \nWe offer an online course that follows the same content as the in-person course. If you need to miss any classes\, you watch the online portion to keep up to date.
URL:https://neomasterraingardener.org/event/summer-2022-in-person-professional-course-2/
LOCATION:Watershed Stewardship Center\, 2277 West Ridgewood Drive\, Parma\, OH\, 44134\, United States
ATTACH;FMTTYPE=image/jpeg:https://neomasterraingardener.org/wp-content/uploads/2021/06/IMG_7816-scaled.jpg
ORGANIZER;CN="Kaylee Acres Eclov":MAILTO:kacres@crwp.org
END:VEVENT
END:VCALENDAR